BEGIN:VCALENDAR
VERSION:2.0
PRODID:http://seelsorgebereich-frankenwald.de
BEGIN:VEVENT
UID:39274a08-4085-11f1-a8bf-0242ac11002b-1779553800000-de
DTSTAMP:20260425T090035Z
DTSTART:20260523T163000Z
DTEND:20260523T173000Z
SUMMARY;LANGUAGE=de:Wort-Gottes-Feier mit Gebetsgedenken an:
DESCRIPTION;LANGUAGE=de:+ Eltern See\, Eltern Hofmann und Pfarrer Hans Martin
END:VEVENT
END:VCALENDAR
