BEGIN:VCALENDAR
VERSION:2.0
PRODID:http://seelsorgebereich-frankenwald.de
BEGIN:VEVENT
UID:386d96e5-4085-11f1-a8bf-0242ac11002b-1779530400000-de
DTSTAMP:20260425T090034Z
DTSTART:20260523T100000Z
DTEND:20260523T110000Z
SUMMARY;LANGUAGE=de:Trauung Mirja und Andreas Heinlein
END:VEVENT
END:VCALENDAR
