BEGIN:VCALENDAR
VERSION:2.0
PRODID:http://seelsorgebereich-frankenwald.de
BEGIN:VEVENT
UID:3853a642-4085-11f1-a8bf-0242ac11002b-1779553800000-de
DTSTAMP:20260425T090034Z
DTSTART:20260523T163000Z
DTEND:20260523T173000Z
SUMMARY;LANGUAGE=de:Pfarrgottesdienst für alle lebenden und + Pfarrangehörigen zum Pfingstfest
END:VEVENT
END:VCALENDAR
