BEGIN:VCALENDAR
VERSION:2.0
PRODID:http://seelsorgebereich-frankenwald.de
BEGIN:VEVENT
UID:37bd8ade-3717-11f1-a8bf-0242ac11002b-1778511600000-de
DTSTAMP:20260413T090028Z
DTSTART:20260511T150000Z
DTEND:20260511T160000Z
SUMMARY;LANGUAGE=de:Andacht zum Bitttag an der Engelhardtskapelle
END:VEVENT
END:VCALENDAR
