BEGIN:VCALENDAR
VERSION:2.0
PRODID:http://seelsorgebereich-frankenwald.de
BEGIN:VEVENT
UID:364cb24d-4085-11f1-a8bf-0242ac11002b-1779537600000-de
DTSTAMP:20260425T090031Z
DTSTART:20260523T120000Z
DTEND:20260523T130000Z
SUMMARY;LANGUAGE=de:Trauung Miriam und Andreas Funk
END:VEVENT
END:VCALENDAR
