BEGIN:VCALENDAR
VERSION:2.0
PRODID:http://seelsorgebereich-frankenwald.de
BEGIN:VEVENT
UID:354a7590-3bce-11f1-a8bf-0242ac11002b-1779026400000-de
DTSTAMP:20260419T090026Z
DTSTART:20260517T140000Z
DTEND:20260517T150000Z
SUMMARY;LANGUAGE=de:Maiandacht mit Prozession zur Stempelkapelle
DESCRIPTION;LANGUAGE=de:Maiandacht mit Prozession zur Stempelkapelle
END:VEVENT
END:VCALENDAR
