BEGIN:VCALENDAR
VERSION:2.0
PRODID:http://seelsorgebereich-frankenwald.de
BEGIN:VEVENT
UID:34e1064b-3bce-11f1-a8bf-0242ac11002b-1779003000000-de
DTSTAMP:20260419T090026Z
DTSTART:20260517T073000Z
DTEND:20260517T083000Z
SUMMARY;LANGUAGE=de:Wort-Gottes-Feier im Festzelt - 50 Jahre JBO
END:VEVENT
END:VCALENDAR
