BEGIN:VCALENDAR
VERSION:2.0
PRODID:http://seelsorgebereich-frankenwald.de
BEGIN:VEVENT
UID:33e706be-3717-11f1-a8bf-0242ac11002b-1778518800000-de
DTSTAMP:20260413T090021Z
DTSTART:20260511T170000Z
DTEND:20260511T180000Z
SUMMARY;LANGUAGE=de:Bittgang von Hohengüßbach nach Sassendorf
END:VEVENT
END:VCALENDAR
