BEGIN:VCALENDAR
VERSION:2.0
PRODID:http://seelsorgebereich-frankenwald.de
BEGIN:VEVENT
UID:33a03077-4085-11f1-a8bf-0242ac11002b-1779552000000-de
DTSTAMP:20260425T090026Z
DTSTART:20260523T160000Z
DTEND:20260523T170000Z
SUMMARY;LANGUAGE=de:Eucharistiefeier als Pfingstvigil
DESCRIPTION;LANGUAGE=de:f. d. Pfarrgemeinde
END:VEVENT
END:VCALENDAR
