BEGIN:VCALENDAR
VERSION:2.0
PRODID:http://seelsorgebereich-frankenwald.de
BEGIN:VEVENT
UID:31469208-3717-11f1-a8bf-0242ac11002b-1778515200000-de
DTSTAMP:20260413T090017Z
DTSTART:20260511T160000Z
DTEND:20260511T170000Z
SUMMARY;LANGUAGE=de:Bittgang in der Arnsteiner Flur
DESCRIPTION;LANGUAGE=de:anschl. Bittandacht
END:VEVENT
END:VCALENDAR
