BEGIN:VCALENDAR
VERSION:2.0
PRODID:http://seelsorgebereich-frankenwald.de
BEGIN:VEVENT
UID:2fa12ee6-3bce-11f1-a8bf-0242ac11002b-1779001200000-de
DTSTAMP:20260419T090017Z
DTSTART:20260517T070000Z
DTEND:20260517T080000Z
SUMMARY;LANGUAGE=de:Wortgottesfeier mit Kommunionausteilung
END:VEVENT
END:VCALENDAR
