BEGIN:VCALENDAR
VERSION:2.0
PRODID:http://seelsorgebereich-frankenwald.de
BEGIN:VEVENT
UID:2dd3e8c2-3bce-11f1-a8bf-0242ac11002b-1779003000000-de
DTSTAMP:20260419T090014Z
DTSTART:20260517T073000Z
DTEND:20260517T083000Z
SUMMARY;LANGUAGE=de:Eucharistiefeier mit Jubelkommunion
END:VEVENT
END:VCALENDAR
