BEGIN:VCALENDAR
VERSION:2.0
PRODID:http://seelsorgebereich-frankenwald.de
BEGIN:VEVENT
UID:2ced8a67-3260-11f1-a8bf-0242ac11002b-1777993200000-de
DTSTAMP:20260407T090007Z
DTSTART:20260505T150000Z
DTEND:20260505T153000Z
SUMMARY;LANGUAGE=de:Rosenkranz um geistliche Berufe
END:VEVENT
END:VCALENDAR
