BEGIN:VCALENDAR
VERSION:2.0
PRODID:http://seelsorgebereich-frankenwald.de
BEGIN:VEVENT
UID:2c80889e-2da9-11f1-a8bf-0242ac11002b-1777442400000-de
DTSTAMP:20260401T090004Z
DTSTART:20260429T060000Z
DTEND:20260429T070000Z
SUMMARY;LANGUAGE=de:Eucharistiefeier mit deutschen Kirchenliedern (Domkapitel)
END:VEVENT
END:VCALENDAR
