BEGIN:VCALENDAR
VERSION:2.0
PRODID:http://seelsorgebereich-frankenwald.de
BEGIN:VEVENT
UID:2c80579a-3717-11f1-a8bf-0242ac11002b-1778482800000-de
DTSTAMP:20260413T090009Z
DTSTART:20260511T070000Z
DTEND:20260511T080000Z
SUMMARY;LANGUAGE=de:Dankgottesdienst der Erstkommunionkinder
END:VEVENT
END:VCALENDAR
