BEGIN:VCALENDAR
VERSION:2.0
PRODID:http://seelsorgebereich-frankenwald.de
BEGIN:VEVENT
UID:287bc001-3717-11f1-a8bf-0242ac11002b-1778481000000-de
DTSTAMP:20260413T090002Z
DTSTART:20260511T063000Z
DTEND:20260511T071500Z
SUMMARY;LANGUAGE=de:Eucharistiefeier, anschl. Rosenkranz
END:VEVENT
END:VCALENDAR
