BEGIN:VCALENDAR
VERSION:2.0
PRODID:http://seelsorgebereich-frankenwald.de
BEGIN:VEVENT
UID:2514e3b1-4085-11f1-a8bf-0242ac11002b-1779548400000-de
DTSTAMP:20260425T090002Z
DTSTART:20260523T150000Z
DTEND:20260523T160000Z
SUMMARY;LANGUAGE=de:Pontifikalgottesdienst mit Herrn Erzbischof em. Dr. Ludwig Schick mit Erwachsenenfirmung
DESCRIPTION;LANGUAGE=de:in den Anliegen der Dompfarrei. Parkerlaubnis Domplatz von 13:30 Uhr bis 20:00 Uhr
END:VEVENT
END:VCALENDAR
