BEGIN:VCALENDAR
VERSION:2.0
PRODID:http://seelsorgebereich-frankenwald.de
BEGIN:VEVENT
UID:0a999a95-3b05-11f1-a8bf-0242ac11002b-1778949000000-de
DTSTAMP:20260418T090026Z
DTSTART:20260516T163000Z
DTEND:20260516T173000Z
SUMMARY;LANGUAGE=de:Wort-Gottes-Feier mit Gebetsgedenken an:
DESCRIPTION;LANGUAGE=de:+ Siegmar Herrmann\, Eltern Zipfel und Herrmann + Eltern Franz uns Anni Fiedler und Bruder Reinhold + Loren\, Johanna und Adrian Hoderlein
END:VEVENT
END:VCALENDAR
