BEGIN:VCALENDAR
VERSION:2.0
PRODID:http://seelsorgebereich-frankenwald.de
BEGIN:VEVENT
UID:0a3ab1a5-3b05-11f1-a8bf-0242ac11002b-1778949000000-de
DTSTAMP:20260418T090025Z
DTSTART:20260516T163000Z
DTEND:20260516T173000Z
SUMMARY;LANGUAGE=de:Hl. Messe, Pfarrgottesdienst zum Hochfest Christi Himmelfahrt für alle lebenden und + Pfarrangehörigen, Pilgersegen, anschließend Fahrzeugsegnung
END:VEVENT
END:VCALENDAR
