BEGIN:VCALENDAR
VERSION:2.0
PRODID:http://seelsorgebereich-frankenwald.de
BEGIN:VEVENT
UID:08abd50e-3b05-11f1-a8bf-0242ac11002b-1778950800000-de
DTSTAMP:20260418T090023Z
DTSTART:20260516T170000Z
DTEND:20260516T180000Z
SUMMARY;LANGUAGE=de:Lobpreis-Gottesdienst der polnischen Gemeinde
END:VEVENT
END:VCALENDAR
