BEGIN:VCALENDAR
VERSION:2.0
PRODID:http://seelsorgebereich-frankenwald.de
BEGIN:VEVENT
UID:0340243f-364e-11f1-a8bf-0242ac11002b-1778392800000-de
DTSTAMP:20260412T090011Z
DTSTART:20260510T060000Z
DTEND:20260510T083000Z
SUMMARY;LANGUAGE=de:Eucharistiefeier anschl. Flurumgang
END:VEVENT
END:VCALENDAR
