BEGIN:VCALENDAR
VERSION:2.0
PRODID:http://seelsorgebereich-frankenwald.de
BEGIN:VEVENT
UID:016570bc-364e-11f1-a8bf-0242ac11002b-1778407200000-de
DTSTAMP:20260412T090008Z
DTSTART:20260510T100000Z
DTEND:20260510T110000Z
SUMMARY;LANGUAGE=de:Eucharistiefeier in kroatischer Sprache
END:VEVENT
END:VCALENDAR
